BEGIN:VCALENDAR
VERSION:2.0
PRODID:icalendar-ruby
CALSCALE:GREGORIAN
METHOD:PUBLISH
BEGIN:VEVENT
DTSTAMP:20260425T234415Z
UID:27-285088@christpresfb.com
DTSTART:20260731T150000Z
DTEND:20260731T170000Z
CLASS:PUBLIC
CREATED:20260425T180905
DESCRIPTION: \n\nClick on the link below (click your back arrow after subm
 itting the form to return to the WEB page)\nWomen's Bible Study Signup For
 m\n \n \n 
LAST-MODIFIED:20260425T180905
LOCATION:Karen's home\, please use sign up for more information.
SUMMARY:Woman's Study 
URL;VALUE=URI:https://www.christpresfb.com/events/womans-study/2026-07-31
ATTACH;FILENAME=Ladies-Luncheon.jpg;FMTTYPE=image/jpeg:https://dq5pwpg1q8ru
 0.cloudfront.net/2024/07/12/18/20/21/05582e85-1e44-4ef3-b977-ab501a6cbf8c/
 Ladies-Luncheon.jpg
END:VEVENT
END:VCALENDAR
